BEGIN:VCALENDAR
VERSION:2.0
PRODID:-//pagosasidewalkastronomers.org - ECPv6.15.20//NONSGML v1.0//EN
CALSCALE:GREGORIAN
METHOD:PUBLISH
X-ORIGINAL-URL:https://pagosasidewalkastronomers.org
X-WR-CALDESC:Events for pagosasidewalkastronomers.org
REFRESH-INTERVAL;VALUE=DURATION:PT1H
X-Robots-Tag:noindex
X-PUBLISHED-TTL:PT1H
BEGIN:VTIMEZONE
TZID:America/Denver
BEGIN:DAYLIGHT
TZOFFSETFROM:-0700
TZOFFSETTO:-0600
TZNAME:MDT
DTSTART:20250309T090000
END:DAYLIGHT
BEGIN:STANDARD
TZOFFSETFROM:-0600
TZOFFSETTO:-0700
TZNAME:MST
DTSTART:20251102T080000
END:STANDARD
BEGIN:DAYLIGHT
TZOFFSETFROM:-0700
TZOFFSETTO:-0600
TZNAME:MDT
DTSTART:20260308T090000
END:DAYLIGHT
BEGIN:STANDARD
TZOFFSETFROM:-0600
TZOFFSETTO:-0700
TZNAME:MST
DTSTART:20261101T080000
END:STANDARD
BEGIN:DAYLIGHT
TZOFFSETFROM:-0700
TZOFFSETTO:-0600
TZNAME:MDT
DTSTART:20270314T090000
END:DAYLIGHT
BEGIN:STANDARD
TZOFFSETFROM:-0600
TZOFFSETTO:-0700
TZNAME:MST
DTSTART:20271107T080000
END:STANDARD
END:VTIMEZONE
BEGIN:VEVENT
DTSTART;TZID=America/Denver:20260608T214500
DTEND;TZID=America/Denver:20260608T231500
DTSTAMP:20260419T204849
CREATED:20260419T152814Z
LAST-MODIFIED:20260419T175009Z
UID:2502-1780955100-1780960500@pagosasidewalkastronomers.org
SUMMARY:Open Date: Private Star Party
DESCRIPTION:Private Star Party\nConstellations\, Planets\, Star Clusters\, Nebulae\, Galaxies…\n\nsmall groups work best\nprogram is geared toward ages 13 and older\n\nAfter filling out the request form\, you will receive a confirmation email with your Star Guide’s contact information\, details on where to meet\, and what to bring. Private Star Parties are held in public places in the Pagosa Springs area. You know\, where it’s nice and dark! \nBook Now!
URL:https://pagosasidewalkastronomers.org/event/open-date-private-star-party-51/
CATEGORIES:Open Date: Private Star Party
ATTACH;FMTTYPE=image/jpeg:https://pagosasidewalkastronomers.org/wp-content/uploads/2024/12/star-trails.jpg
ORGANIZER;CN="Pagosa Sidewalk Astronomers":MAILTO:pagosasidewalkastronomers@gmail.com
END:VEVENT
BEGIN:VEVENT
DTSTART;TZID=America/Denver:20260609T214500
DTEND;TZID=America/Denver:20260609T231500
DTSTAMP:20260419T204849
CREATED:20260419T152816Z
LAST-MODIFIED:20260419T175011Z
UID:2503-1781041500-1781046900@pagosasidewalkastronomers.org
SUMMARY:Open Date: Private Star Party
DESCRIPTION:Private Star Party\nConstellations\, Planets\, Star Clusters\, Nebulae\, Galaxies…\n\nsmall groups work best\nprogram is geared toward ages 13 and older\n\nAfter filling out the request form\, you will receive a confirmation email with your Star Guide’s contact information\, details on where to meet\, and what to bring. Private Star Parties are held in public places in the Pagosa Springs area. You know\, where it’s nice and dark! \nBook Now!
URL:https://pagosasidewalkastronomers.org/event/open-date-private-star-party-52/
CATEGORIES:Open Date: Private Star Party
ATTACH;FMTTYPE=image/jpeg:https://pagosasidewalkastronomers.org/wp-content/uploads/2024/12/star-trails.jpg
ORGANIZER;CN="Pagosa Sidewalk Astronomers":MAILTO:pagosasidewalkastronomers@gmail.com
END:VEVENT
BEGIN:VEVENT
DTSTART;TZID=America/Denver:20260610T214500
DTEND;TZID=America/Denver:20260610T231500
DTSTAMP:20260419T204849
CREATED:20260419T152817Z
LAST-MODIFIED:20260419T175011Z
UID:2504-1781127900-1781133300@pagosasidewalkastronomers.org
SUMMARY:Open Date: Private Star Party
DESCRIPTION:Private Star Party\nConstellations\, Planets\, Star Clusters\, Nebulae\, Galaxies…\n\nsmall groups work best\nprogram is geared toward ages 13 and older\n\nAfter filling out the request form\, you will receive a confirmation email with your Star Guide’s contact information\, details on where to meet\, and what to bring. Private Star Parties are held in public places in the Pagosa Springs area. You know\, where it’s nice and dark! \nBook Now!
URL:https://pagosasidewalkastronomers.org/event/open-date-private-star-party-53/
CATEGORIES:Open Date: Private Star Party
ATTACH;FMTTYPE=image/jpeg:https://pagosasidewalkastronomers.org/wp-content/uploads/2024/12/star-trails.jpg
ORGANIZER;CN="Pagosa Sidewalk Astronomers":MAILTO:pagosasidewalkastronomers@gmail.com
END:VEVENT
BEGIN:VEVENT
DTSTART;TZID=America/Denver:20260611T214500
DTEND;TZID=America/Denver:20260611T231500
DTSTAMP:20260419T204849
CREATED:20260419T152818Z
LAST-MODIFIED:20260419T175012Z
UID:2505-1781214300-1781219700@pagosasidewalkastronomers.org
SUMMARY:Open Date: Private Star Party
DESCRIPTION:Private Star Party\nConstellations\, Planets\, Star Clusters\, Nebulae\, Galaxies…\n\nsmall groups work best\nprogram is geared toward ages 13 and older\n\nAfter filling out the request form\, you will receive a confirmation email with your Star Guide’s contact information\, details on where to meet\, and what to bring. Private Star Parties are held in public places in the Pagosa Springs area. You know\, where it’s nice and dark! \nBook Now!
URL:https://pagosasidewalkastronomers.org/event/open-date-private-star-party-54/
CATEGORIES:Open Date: Private Star Party
ATTACH;FMTTYPE=image/jpeg:https://pagosasidewalkastronomers.org/wp-content/uploads/2024/12/star-trails.jpg
ORGANIZER;CN="Pagosa Sidewalk Astronomers":MAILTO:pagosasidewalkastronomers@gmail.com
END:VEVENT
BEGIN:VEVENT
DTSTART;TZID=America/Denver:20260612T214500
DTEND;TZID=America/Denver:20260612T231500
DTSTAMP:20260419T204849
CREATED:20260419T152818Z
LAST-MODIFIED:20260419T175012Z
UID:2506-1781300700-1781306100@pagosasidewalkastronomers.org
SUMMARY:Open Date: Private Star Party
DESCRIPTION:Private Star Party\nConstellations\, Planets\, Star Clusters\, Nebulae\, Galaxies…\n\nsmall groups work best\nprogram is geared toward ages 13 and older\n\nAfter filling out the request form\, you will receive a confirmation email with your Star Guide’s contact information\, details on where to meet\, and what to bring. Private Star Parties are held in public places in the Pagosa Springs area. You know\, where it’s nice and dark! \nBook Now!
URL:https://pagosasidewalkastronomers.org/event/open-date-private-star-party-55/
CATEGORIES:Open Date: Private Star Party
ATTACH;FMTTYPE=image/jpeg:https://pagosasidewalkastronomers.org/wp-content/uploads/2024/12/star-trails.jpg
ORGANIZER;CN="Pagosa Sidewalk Astronomers":MAILTO:pagosasidewalkastronomers@gmail.com
END:VEVENT
BEGIN:VEVENT
DTSTART;TZID=America/Denver:20260613T214500
DTEND;TZID=America/Denver:20260613T231500
DTSTAMP:20260419T204849
CREATED:20260419T152819Z
LAST-MODIFIED:20260419T175013Z
UID:2507-1781387100-1781392500@pagosasidewalkastronomers.org
SUMMARY:Open Date: Private Star Party
DESCRIPTION:Private Star Party\nConstellations\, Planets\, Star Clusters\, Nebulae\, Galaxies…\n\nsmall groups work best\nprogram is geared toward ages 13 and older\n\nAfter filling out the request form\, you will receive a confirmation email with your Star Guide’s contact information\, details on where to meet\, and what to bring. Private Star Parties are held in public places in the Pagosa Springs area. You know\, where it’s nice and dark! \nBook Now!
URL:https://pagosasidewalkastronomers.org/event/open-date-private-star-party-56/
CATEGORIES:Open Date: Private Star Party
ATTACH;FMTTYPE=image/jpeg:https://pagosasidewalkastronomers.org/wp-content/uploads/2024/12/star-trails.jpg
ORGANIZER;CN="Pagosa Sidewalk Astronomers":MAILTO:pagosasidewalkastronomers@gmail.com
END:VEVENT
BEGIN:VEVENT
DTSTART;TZID=America/Denver:20260614T214500
DTEND;TZID=America/Denver:20260614T231500
DTSTAMP:20260419T204849
CREATED:20260419T152831Z
LAST-MODIFIED:20260419T175133Z
UID:2508-1781473500-1781478900@pagosasidewalkastronomers.org
SUMMARY:Open Date: Private Star Party
DESCRIPTION:Private Star Party\nConstellations\, Planets\, Star Clusters\, Nebulae\, Galaxies…\n\nsmall groups work best\nprogram is geared toward ages 13 and older\n\nAfter filling out the request form\, you will receive a confirmation email with your Star Guide’s contact information\, details on where to meet\, and what to bring. Private Star Parties are held in public places in the Pagosa Springs area. You know\, where it’s nice and dark! \nBook Now!
URL:https://pagosasidewalkastronomers.org/event/open-date-private-star-party-57/
CATEGORIES:Open Date: Private Star Party
ATTACH;FMTTYPE=image/jpeg:https://pagosasidewalkastronomers.org/wp-content/uploads/2024/12/star-trails.jpg
ORGANIZER;CN="Pagosa Sidewalk Astronomers":MAILTO:pagosasidewalkastronomers@gmail.com
END:VEVENT
BEGIN:VEVENT
DTSTART;TZID=America/Denver:20260615T214500
DTEND;TZID=America/Denver:20260615T231500
DTSTAMP:20260419T204849
CREATED:20260419T152832Z
LAST-MODIFIED:20260419T175134Z
UID:2509-1781559900-1781565300@pagosasidewalkastronomers.org
SUMMARY:Open Date: Private Star Party
DESCRIPTION:Private Star Party\nConstellations\, Planets\, Star Clusters\, Nebulae\, Galaxies…\n\nsmall groups work best\nprogram is geared toward ages 13 and older\n\nAfter filling out the request form\, you will receive a confirmation email with your Star Guide’s contact information\, details on where to meet\, and what to bring. Private Star Parties are held in public places in the Pagosa Springs area. You know\, where it’s nice and dark! \nBook Now!
URL:https://pagosasidewalkastronomers.org/event/open-date-private-star-party-58/
CATEGORIES:Open Date: Private Star Party
ATTACH;FMTTYPE=image/jpeg:https://pagosasidewalkastronomers.org/wp-content/uploads/2024/12/star-trails.jpg
ORGANIZER;CN="Pagosa Sidewalk Astronomers":MAILTO:pagosasidewalkastronomers@gmail.com
END:VEVENT
END:VCALENDAR